BEGIN:VCALENDAR
VERSION:2.0
PRODID:-//Stile Nuoto Quadri - ECPv6.15.20//NONSGML v1.0//EN
CALSCALE:GREGORIAN
METHOD:PUBLISH
X-ORIGINAL-URL:https://stilenuotoquadri.it
X-WR-CALDESC:Eventi per Stile Nuoto Quadri
REFRESH-INTERVAL;VALUE=DURATION:PT1H
X-Robots-Tag:noindex
X-PUBLISHED-TTL:PT1H
BEGIN:VTIMEZONE
TZID:Europe/Rome
BEGIN:DAYLIGHT
TZOFFSETFROM:+0100
TZOFFSETTO:+0200
TZNAME:CEST
DTSTART:20250330T010000
END:DAYLIGHT
BEGIN:STANDARD
TZOFFSETFROM:+0200
TZOFFSETTO:+0100
TZNAME:CET
DTSTART:20251026T010000
END:STANDARD
BEGIN:DAYLIGHT
TZOFFSETFROM:+0100
TZOFFSETTO:+0200
TZNAME:CEST
DTSTART:20260329T010000
END:DAYLIGHT
BEGIN:STANDARD
TZOFFSETFROM:+0200
TZOFFSETTO:+0100
TZNAME:CET
DTSTART:20261025T010000
END:STANDARD
BEGIN:DAYLIGHT
TZOFFSETFROM:+0100
TZOFFSETTO:+0200
TZNAME:CEST
DTSTART:20270328T010000
END:DAYLIGHT
BEGIN:STANDARD
TZOFFSETFROM:+0200
TZOFFSETTO:+0100
TZNAME:CET
DTSTART:20271031T010000
END:STANDARD
END:VTIMEZONE
BEGIN:VEVENT
DTSTART;TZID=Europe/Rome:20260330T170000
DTEND;TZID=Europe/Rome:20260330T180000
DTSTAMP:20260420T223627
CREATED:20251106T144548Z
LAST-MODIFIED:20251106T151043Z
UID:10182627-1774890000-1774893600@stilenuotoquadri.it
SUMMARY:Karate Kid - dai 6 anni
DESCRIPTION:Un corso pensato per i più piccoli che vogliono avvicinarsi al mondo delle arti marziali. Attraverso il gioco e la disciplina del karate\, i bambini imparano rispetto\, concentrazione e coordinazione\, divertendosi in un ambiente sicuro e motivante.
URL:https://stilenuotoquadri.it/corso/karate-kid-dai-6-anni/2026-03-30/
CATEGORIES:Karate Kid,Sport da combattimento
ATTACH;FMTTYPE=image/webp:https://stilenuotoquadri.it/wp-content/uploads/2025/11/Karate-Kid.webp
END:VEVENT
BEGIN:VEVENT
DTSTART;TZID=Europe/Rome:20260330T180000
DTEND;TZID=Europe/Rome:20260330T190000
DTSTAMP:20260420T223627
CREATED:20251106T151539Z
LAST-MODIFIED:20251106T151742Z
UID:10183675-1774893600-1774897200@stilenuotoquadri.it
SUMMARY:Karate
DESCRIPTION:Un’arte marziale che unisce tecnica\, forza e concentrazione. Il corso di karate aiuta a migliorare equilibrio\, disciplina e fiducia in sé stessi\, offrendo un allenamento completo per corpo e mente
URL:https://stilenuotoquadri.it/corso/karate/2026-03-30/
CATEGORIES:Karate,Sport da combattimento
ATTACH;FMTTYPE=image/webp:https://stilenuotoquadri.it/wp-content/uploads/2025/11/Karate.webp
END:VEVENT
BEGIN:VEVENT
DTSTART;TZID=Europe/Rome:20260330T193000
DTEND;TZID=Europe/Rome:20260330T210000
DTSTAMP:20260420T223627
CREATED:20251106T153509Z
LAST-MODIFIED:20251106T155224Z
UID:10188639-1774899000-1774904400@stilenuotoquadri.it
SUMMARY:Boxe
DESCRIPTION:Un corso ideale per chi vuole migliorare forma fisica\, riflessi e concentrazione. Attraverso tecniche di pugilato e allenamenti mirati\, si sviluppano forza\, resistenza e autocontrollo\, in un ambiente stimolante e dinamico
URL:https://stilenuotoquadri.it/corso/boxe/2026-03-30/
CATEGORIES:Boxe,Sport da combattimento
ATTACH;FMTTYPE=image/webp:https://stilenuotoquadri.it/wp-content/uploads/2025/11/Boxe.webp
END:VEVENT
BEGIN:VEVENT
DTSTART;TZID=Europe/Rome:20260331T093000
DTEND;TZID=Europe/Rome:20260331T103000
DTSTAMP:20260420T223627
CREATED:20251106T152058Z
LAST-MODIFIED:20251106T153147Z
UID:10185764-1774949400-1774953000@stilenuotoquadri.it
SUMMARY:Muay Thai
DESCRIPTION:La disciplina thailandese conosciuta come “l’arte delle otto armi”. Un allenamento intenso che sviluppa forza\, resistenza e coordinazione\, combinando calci\, pugni\, gomitate e ginocchiate in un mix di tecnica e potenza
URL:https://stilenuotoquadri.it/corso/muay-thai-2/2026-03-31/
CATEGORIES:Muay thay,Sport da combattimento
ATTACH;FMTTYPE=image/webp:https://stilenuotoquadri.it/wp-content/uploads/2025/11/Muay-Thai.webp
END:VEVENT
BEGIN:VEVENT
DTSTART;TZID=Europe/Rome:20260331T200000
DTEND;TZID=Europe/Rome:20260331T213000
DTSTAMP:20260420T223627
CREATED:20251106T153220Z
LAST-MODIFIED:20251106T153221Z
UID:10185243-1774987200-1774992600@stilenuotoquadri.it
SUMMARY:Muay Thai
DESCRIPTION:La disciplina thailandese conosciuta come “l’arte delle otto armi”. Un allenamento intenso che sviluppa forza\, resistenza e coordinazione\, combinando calci\, pugni\, gomitate e ginocchiate in un mix di tecnica e potenza
URL:https://stilenuotoquadri.it/corso/muay-thai-3/2026-03-31/
CATEGORIES:Muay thay,Sport da combattimento
ATTACH;FMTTYPE=image/webp:https://stilenuotoquadri.it/wp-content/uploads/2025/11/Muay-Thai.webp
END:VEVENT
BEGIN:VEVENT
DTSTART;TZID=Europe/Rome:20260401T170000
DTEND;TZID=Europe/Rome:20260401T180000
DTSTAMP:20260420T223627
CREATED:20251106T144548Z
LAST-MODIFIED:20251106T151043Z
UID:10182628-1775062800-1775066400@stilenuotoquadri.it
SUMMARY:Karate Kid - dai 6 anni
DESCRIPTION:Un corso pensato per i più piccoli che vogliono avvicinarsi al mondo delle arti marziali. Attraverso il gioco e la disciplina del karate\, i bambini imparano rispetto\, concentrazione e coordinazione\, divertendosi in un ambiente sicuro e motivante.
URL:https://stilenuotoquadri.it/corso/karate-kid-dai-6-anni/2026-04-01/
CATEGORIES:Karate Kid,Sport da combattimento
ATTACH;FMTTYPE=image/webp:https://stilenuotoquadri.it/wp-content/uploads/2025/11/Karate-Kid.webp
END:VEVENT
BEGIN:VEVENT
DTSTART;TZID=Europe/Rome:20260401T180000
DTEND;TZID=Europe/Rome:20260401T190000
DTSTAMP:20260420T223627
CREATED:20251106T151539Z
LAST-MODIFIED:20251106T151742Z
UID:10183676-1775066400-1775070000@stilenuotoquadri.it
SUMMARY:Karate
DESCRIPTION:Un’arte marziale che unisce tecnica\, forza e concentrazione. Il corso di karate aiuta a migliorare equilibrio\, disciplina e fiducia in sé stessi\, offrendo un allenamento completo per corpo e mente
URL:https://stilenuotoquadri.it/corso/karate/2026-04-01/
CATEGORIES:Karate,Sport da combattimento
ATTACH;FMTTYPE=image/webp:https://stilenuotoquadri.it/wp-content/uploads/2025/11/Karate.webp
END:VEVENT
BEGIN:VEVENT
DTSTART;TZID=Europe/Rome:20260401T190000
DTEND;TZID=Europe/Rome:20260401T200000
DTSTAMP:20260420T223627
CREATED:20251106T154233Z
LAST-MODIFIED:20251106T154233Z
UID:10187312-1775070000-1775073600@stilenuotoquadri.it
SUMMARY:Kick Boxing
DESCRIPTION:Un allenamento completo che combina le tecniche di pugilato con calci potenti e movimenti dinamici. Perfetto per migliorare tono muscolare\, coordinazione e resistenza\, scaricando lo stress e aumentando la fiducia in sé stessi
URL:https://stilenuotoquadri.it/corso/kick-boxing/2026-04-01/
CATEGORIES:Kick Boxing,Sport da combattimento
ATTACH;FMTTYPE=image/webp:https://stilenuotoquadri.it/wp-content/uploads/2025/11/Kick-Boxing.webp
END:VEVENT
BEGIN:VEVENT
DTSTART;TZID=Europe/Rome:20260401T193000
DTEND;TZID=Europe/Rome:20260401T210000
DTSTAMP:20260420T223627
CREATED:20251106T153509Z
LAST-MODIFIED:20251106T155224Z
UID:10189402-1775071800-1775077200@stilenuotoquadri.it
SUMMARY:Boxe
DESCRIPTION:Un corso ideale per chi vuole migliorare forma fisica\, riflessi e concentrazione. Attraverso tecniche di pugilato e allenamenti mirati\, si sviluppano forza\, resistenza e autocontrollo\, in un ambiente stimolante e dinamico
URL:https://stilenuotoquadri.it/corso/boxe/2026-04-01/
CATEGORIES:Boxe,Sport da combattimento
ATTACH;FMTTYPE=image/webp:https://stilenuotoquadri.it/wp-content/uploads/2025/11/Boxe.webp
END:VEVENT
BEGIN:VEVENT
DTSTART;TZID=Europe/Rome:20260402T173000
DTEND;TZID=Europe/Rome:20260402T183000
DTSTAMP:20260420T223627
CREATED:20251106T153819Z
LAST-MODIFIED:20251106T153819Z
UID:10187051-1775151000-1775154600@stilenuotoquadri.it
SUMMARY:Baby Kick - 6/7 anni
DESCRIPTION:
URL:https://stilenuotoquadri.it/corso/baby-kick-2/2026-04-02/
CATEGORIES:Baby Kick,Sport da combattimento
ATTACH;FMTTYPE=image/webp:https://stilenuotoquadri.it/wp-content/uploads/2025/02/Baby-Kick.webp
END:VEVENT
BEGIN:VEVENT
DTSTART;TZID=Europe/Rome:20260402T200000
DTEND;TZID=Europe/Rome:20260402T213000
DTSTAMP:20260420T223627
CREATED:20251106T153220Z
LAST-MODIFIED:20251106T153221Z
UID:10185244-1775160000-1775165400@stilenuotoquadri.it
SUMMARY:Muay Thai
DESCRIPTION:La disciplina thailandese conosciuta come “l’arte delle otto armi”. Un allenamento intenso che sviluppa forza\, resistenza e coordinazione\, combinando calci\, pugni\, gomitate e ginocchiate in un mix di tecnica e potenza
URL:https://stilenuotoquadri.it/corso/muay-thai-3/2026-04-02/
CATEGORIES:Muay thay,Sport da combattimento
ATTACH;FMTTYPE=image/webp:https://stilenuotoquadri.it/wp-content/uploads/2025/11/Muay-Thai.webp
END:VEVENT
BEGIN:VEVENT
DTSTART;TZID=Europe/Rome:20260403T190000
DTEND;TZID=Europe/Rome:20260403T200000
DTSTAMP:20260420T223627
CREATED:20251106T154325Z
LAST-MODIFIED:20251106T154325Z
UID:10187836-1775242800-1775246400@stilenuotoquadri.it
SUMMARY:Kick Boxing
DESCRIPTION:Un allenamento completo che combina le tecniche di pugilato con calci potenti e movimenti dinamici. Perfetto per migliorare tono muscolare\, coordinazione e resistenza\, scaricando lo stress e aumentando la fiducia in sé stessi
URL:https://stilenuotoquadri.it/corso/kick-boxing-2/2026-04-03/
CATEGORIES:Kick Boxing,Sport da combattimento
ATTACH;FMTTYPE=image/webp:https://stilenuotoquadri.it/wp-content/uploads/2025/11/Kick-Boxing.webp
END:VEVENT
BEGIN:VEVENT
DTSTART;TZID=Europe/Rome:20260403T194500
DTEND;TZID=Europe/Rome:20260403T211500
DTSTAMP:20260420T223627
CREATED:20251106T153633Z
LAST-MODIFIED:20251106T155214Z
UID:10189141-1775245500-1775250900@stilenuotoquadri.it
SUMMARY:Boxe
DESCRIPTION:Un corso ideale per chi vuole migliorare forma fisica\, riflessi e concentrazione. Attraverso tecniche di pugilato e allenamenti mirati\, si sviluppano forza\, resistenza e autocontrollo\, in un ambiente stimolante e dinamico
URL:https://stilenuotoquadri.it/corso/boxe-2/2026-04-03/
CATEGORIES:Boxe,Sport da combattimento
ATTACH;FMTTYPE=image/webp:https://stilenuotoquadri.it/wp-content/uploads/2025/11/Boxe.webp
END:VEVENT
BEGIN:VEVENT
DTSTART;TZID=Europe/Rome:20260404T093000
DTEND;TZID=Europe/Rome:20260404T103000
DTSTAMP:20260420T223627
CREATED:20251106T154714Z
LAST-MODIFIED:20251106T154714Z
UID:10188358-1775295000-1775298600@stilenuotoquadri.it
SUMMARY:Baby Boxe
DESCRIPTION:
URL:https://stilenuotoquadri.it/corso/baby-boxe/2026-04-04/
CATEGORIES:Baby boxe,Sport da combattimento
ATTACH;FMTTYPE=image/webp:https://stilenuotoquadri.it/wp-content/uploads/2025/11/Baby-Boxe.webp
END:VEVENT
END:VCALENDAR