BEGIN:VCALENDAR
VERSION:2.0
PRODID:-//Stile Nuoto Quadri - ECPv6.15.20//NONSGML v1.0//EN
CALSCALE:GREGORIAN
METHOD:PUBLISH
X-WR-CALNAME:Stile Nuoto Quadri
X-ORIGINAL-URL:https://stilenuotoquadri.it
X-WR-CALDESC:Eventi per Stile Nuoto Quadri
REFRESH-INTERVAL;VALUE=DURATION:PT1H
X-Robots-Tag:noindex
X-PUBLISHED-TTL:PT1H
BEGIN:VTIMEZONE
TZID:Europe/Rome
BEGIN:DAYLIGHT
TZOFFSETFROM:+0100
TZOFFSETTO:+0200
TZNAME:CEST
DTSTART:20250330T010000
END:DAYLIGHT
BEGIN:STANDARD
TZOFFSETFROM:+0200
TZOFFSETTO:+0100
TZNAME:CET
DTSTART:20251026T010000
END:STANDARD
BEGIN:DAYLIGHT
TZOFFSETFROM:+0100
TZOFFSETTO:+0200
TZNAME:CEST
DTSTART:20260329T010000
END:DAYLIGHT
BEGIN:STANDARD
TZOFFSETFROM:+0200
TZOFFSETTO:+0100
TZNAME:CET
DTSTART:20261025T010000
END:STANDARD
BEGIN:DAYLIGHT
TZOFFSETFROM:+0100
TZOFFSETTO:+0200
TZNAME:CEST
DTSTART:20270328T010000
END:DAYLIGHT
BEGIN:STANDARD
TZOFFSETFROM:+0200
TZOFFSETTO:+0100
TZNAME:CET
DTSTART:20271031T010000
END:STANDARD
END:VTIMEZONE
BEGIN:VEVENT
DTSTART;TZID=Europe/Rome:20260323T170000
DTEND;TZID=Europe/Rome:20260323T180000
DTSTAMP:20260421T035122
CREATED:20251106T144548Z
LAST-MODIFIED:20251106T151043Z
UID:10182625-1774285200-1774288800@stilenuotoquadri.it
SUMMARY:Karate Kid - dai 6 anni
DESCRIPTION:Un corso pensato per i più piccoli che vogliono avvicinarsi al mondo delle arti marziali. Attraverso il gioco e la disciplina del karate\, i bambini imparano rispetto\, concentrazione e coordinazione\, divertendosi in un ambiente sicuro e motivante.
URL:https://stilenuotoquadri.it/corso/karate-kid-dai-6-anni/2026-03-23/
CATEGORIES:Karate Kid,Sport da combattimento
ATTACH;FMTTYPE=image/webp:https://stilenuotoquadri.it/wp-content/uploads/2025/11/Karate-Kid.webp
END:VEVENT
BEGIN:VEVENT
DTSTART;TZID=Europe/Rome:20260323T180000
DTEND;TZID=Europe/Rome:20260323T190000
DTSTAMP:20260421T035122
CREATED:20251106T151539Z
LAST-MODIFIED:20251106T151742Z
UID:10183673-1774288800-1774292400@stilenuotoquadri.it
SUMMARY:Karate
DESCRIPTION:Un’arte marziale che unisce tecnica\, forza e concentrazione. Il corso di karate aiuta a migliorare equilibrio\, disciplina e fiducia in sé stessi\, offrendo un allenamento completo per corpo e mente
URL:https://stilenuotoquadri.it/corso/karate/2026-03-23/
CATEGORIES:Karate,Sport da combattimento
ATTACH;FMTTYPE=image/webp:https://stilenuotoquadri.it/wp-content/uploads/2025/11/Karate.webp
END:VEVENT
BEGIN:VEVENT
DTSTART;TZID=Europe/Rome:20260323T193000
DTEND;TZID=Europe/Rome:20260323T210000
DTSTAMP:20260421T035122
CREATED:20251106T153509Z
LAST-MODIFIED:20251106T155224Z
UID:10188637-1774294200-1774299600@stilenuotoquadri.it
SUMMARY:Boxe
DESCRIPTION:Un corso ideale per chi vuole migliorare forma fisica\, riflessi e concentrazione. Attraverso tecniche di pugilato e allenamenti mirati\, si sviluppano forza\, resistenza e autocontrollo\, in un ambiente stimolante e dinamico
URL:https://stilenuotoquadri.it/corso/boxe/2026-03-23/
CATEGORIES:Boxe,Sport da combattimento
ATTACH;FMTTYPE=image/webp:https://stilenuotoquadri.it/wp-content/uploads/2025/11/Boxe.webp
END:VEVENT
BEGIN:VEVENT
DTSTART;TZID=Europe/Rome:20260324T093000
DTEND;TZID=Europe/Rome:20260324T103000
DTSTAMP:20260421T035122
CREATED:20251106T152058Z
LAST-MODIFIED:20251106T153147Z
UID:10185762-1774344600-1774348200@stilenuotoquadri.it
SUMMARY:Muay Thai
DESCRIPTION:La disciplina thailandese conosciuta come “l’arte delle otto armi”. Un allenamento intenso che sviluppa forza\, resistenza e coordinazione\, combinando calci\, pugni\, gomitate e ginocchiate in un mix di tecnica e potenza
URL:https://stilenuotoquadri.it/corso/muay-thai-2/2026-03-24/
CATEGORIES:Muay thay,Sport da combattimento
ATTACH;FMTTYPE=image/webp:https://stilenuotoquadri.it/wp-content/uploads/2025/11/Muay-Thai.webp
END:VEVENT
BEGIN:VEVENT
DTSTART;TZID=Europe/Rome:20260324T200000
DTEND;TZID=Europe/Rome:20260324T213000
DTSTAMP:20260421T035122
CREATED:20251106T153220Z
LAST-MODIFIED:20251106T153221Z
UID:10185241-1774382400-1774387800@stilenuotoquadri.it
SUMMARY:Muay Thai
DESCRIPTION:La disciplina thailandese conosciuta come “l’arte delle otto armi”. Un allenamento intenso che sviluppa forza\, resistenza e coordinazione\, combinando calci\, pugni\, gomitate e ginocchiate in un mix di tecnica e potenza
URL:https://stilenuotoquadri.it/corso/muay-thai-3/2026-03-24/
CATEGORIES:Muay thay,Sport da combattimento
ATTACH;FMTTYPE=image/webp:https://stilenuotoquadri.it/wp-content/uploads/2025/11/Muay-Thai.webp
END:VEVENT
BEGIN:VEVENT
DTSTART;TZID=Europe/Rome:20260325T170000
DTEND;TZID=Europe/Rome:20260325T180000
DTSTAMP:20260421T035122
CREATED:20251106T144548Z
LAST-MODIFIED:20251106T151043Z
UID:10182626-1774458000-1774461600@stilenuotoquadri.it
SUMMARY:Karate Kid - dai 6 anni
DESCRIPTION:Un corso pensato per i più piccoli che vogliono avvicinarsi al mondo delle arti marziali. Attraverso il gioco e la disciplina del karate\, i bambini imparano rispetto\, concentrazione e coordinazione\, divertendosi in un ambiente sicuro e motivante.
URL:https://stilenuotoquadri.it/corso/karate-kid-dai-6-anni/2026-03-25/
CATEGORIES:Karate Kid,Sport da combattimento
ATTACH;FMTTYPE=image/webp:https://stilenuotoquadri.it/wp-content/uploads/2025/11/Karate-Kid.webp
END:VEVENT
BEGIN:VEVENT
DTSTART;TZID=Europe/Rome:20260325T180000
DTEND;TZID=Europe/Rome:20260325T190000
DTSTAMP:20260421T035122
CREATED:20251106T151539Z
LAST-MODIFIED:20251106T151742Z
UID:10183674-1774461600-1774465200@stilenuotoquadri.it
SUMMARY:Karate
DESCRIPTION:Un’arte marziale che unisce tecnica\, forza e concentrazione. Il corso di karate aiuta a migliorare equilibrio\, disciplina e fiducia in sé stessi\, offrendo un allenamento completo per corpo e mente
URL:https://stilenuotoquadri.it/corso/karate/2026-03-25/
CATEGORIES:Karate,Sport da combattimento
ATTACH;FMTTYPE=image/webp:https://stilenuotoquadri.it/wp-content/uploads/2025/11/Karate.webp
END:VEVENT
BEGIN:VEVENT
DTSTART;TZID=Europe/Rome:20260325T190000
DTEND;TZID=Europe/Rome:20260325T200000
DTSTAMP:20260421T035122
CREATED:20251106T154233Z
LAST-MODIFIED:20251106T154233Z
UID:10187311-1774465200-1774468800@stilenuotoquadri.it
SUMMARY:Kick Boxing
DESCRIPTION:Un allenamento completo che combina le tecniche di pugilato con calci potenti e movimenti dinamici. Perfetto per migliorare tono muscolare\, coordinazione e resistenza\, scaricando lo stress e aumentando la fiducia in sé stessi
URL:https://stilenuotoquadri.it/corso/kick-boxing/2026-03-25/
CATEGORIES:Kick Boxing,Sport da combattimento
ATTACH;FMTTYPE=image/webp:https://stilenuotoquadri.it/wp-content/uploads/2025/11/Kick-Boxing.webp
END:VEVENT
BEGIN:VEVENT
DTSTART;TZID=Europe/Rome:20260325T193000
DTEND;TZID=Europe/Rome:20260325T210000
DTSTAMP:20260421T035122
CREATED:20251106T153509Z
LAST-MODIFIED:20251106T155224Z
UID:10189401-1774467000-1774472400@stilenuotoquadri.it
SUMMARY:Boxe
DESCRIPTION:Un corso ideale per chi vuole migliorare forma fisica\, riflessi e concentrazione. Attraverso tecniche di pugilato e allenamenti mirati\, si sviluppano forza\, resistenza e autocontrollo\, in un ambiente stimolante e dinamico
URL:https://stilenuotoquadri.it/corso/boxe/2026-03-25/
CATEGORIES:Boxe,Sport da combattimento
ATTACH;FMTTYPE=image/webp:https://stilenuotoquadri.it/wp-content/uploads/2025/11/Boxe.webp
END:VEVENT
BEGIN:VEVENT
DTSTART;TZID=Europe/Rome:20260326T173000
DTEND;TZID=Europe/Rome:20260326T183000
DTSTAMP:20260421T035122
CREATED:20251106T153819Z
LAST-MODIFIED:20251106T153819Z
UID:10187050-1774546200-1774549800@stilenuotoquadri.it
SUMMARY:Baby Kick - 6/7 anni
DESCRIPTION:
URL:https://stilenuotoquadri.it/corso/baby-kick-2/2026-03-26/
CATEGORIES:Baby Kick,Sport da combattimento
ATTACH;FMTTYPE=image/webp:https://stilenuotoquadri.it/wp-content/uploads/2025/02/Baby-Kick.webp
END:VEVENT
BEGIN:VEVENT
DTSTART;TZID=Europe/Rome:20260326T200000
DTEND;TZID=Europe/Rome:20260326T213000
DTSTAMP:20260421T035122
CREATED:20251106T153220Z
LAST-MODIFIED:20251106T153221Z
UID:10185242-1774555200-1774560600@stilenuotoquadri.it
SUMMARY:Muay Thai
DESCRIPTION:La disciplina thailandese conosciuta come “l’arte delle otto armi”. Un allenamento intenso che sviluppa forza\, resistenza e coordinazione\, combinando calci\, pugni\, gomitate e ginocchiate in un mix di tecnica e potenza
URL:https://stilenuotoquadri.it/corso/muay-thai-3/2026-03-26/
CATEGORIES:Muay thay,Sport da combattimento
ATTACH;FMTTYPE=image/webp:https://stilenuotoquadri.it/wp-content/uploads/2025/11/Muay-Thai.webp
END:VEVENT
BEGIN:VEVENT
DTSTART;TZID=Europe/Rome:20260327T190000
DTEND;TZID=Europe/Rome:20260327T200000
DTSTAMP:20260421T035122
CREATED:20251106T154325Z
LAST-MODIFIED:20251106T154325Z
UID:10187835-1774638000-1774641600@stilenuotoquadri.it
SUMMARY:Kick Boxing
DESCRIPTION:Un allenamento completo che combina le tecniche di pugilato con calci potenti e movimenti dinamici. Perfetto per migliorare tono muscolare\, coordinazione e resistenza\, scaricando lo stress e aumentando la fiducia in sé stessi
URL:https://stilenuotoquadri.it/corso/kick-boxing-2/2026-03-27/
CATEGORIES:Kick Boxing,Sport da combattimento
ATTACH;FMTTYPE=image/webp:https://stilenuotoquadri.it/wp-content/uploads/2025/11/Kick-Boxing.webp
END:VEVENT
BEGIN:VEVENT
DTSTART;TZID=Europe/Rome:20260327T194500
DTEND;TZID=Europe/Rome:20260327T211500
DTSTAMP:20260421T035122
CREATED:20251106T153633Z
LAST-MODIFIED:20251106T155214Z
UID:10189140-1774640700-1774646100@stilenuotoquadri.it
SUMMARY:Boxe
DESCRIPTION:Un corso ideale per chi vuole migliorare forma fisica\, riflessi e concentrazione. Attraverso tecniche di pugilato e allenamenti mirati\, si sviluppano forza\, resistenza e autocontrollo\, in un ambiente stimolante e dinamico
URL:https://stilenuotoquadri.it/corso/boxe-2/2026-03-27/
CATEGORIES:Boxe,Sport da combattimento
ATTACH;FMTTYPE=image/webp:https://stilenuotoquadri.it/wp-content/uploads/2025/11/Boxe.webp
END:VEVENT
BEGIN:VEVENT
DTSTART;TZID=Europe/Rome:20260328T093000
DTEND;TZID=Europe/Rome:20260328T103000
DTSTAMP:20260421T035122
CREATED:20251106T154714Z
LAST-MODIFIED:20251106T154714Z
UID:10188357-1774690200-1774693800@stilenuotoquadri.it
SUMMARY:Baby Boxe
DESCRIPTION:
URL:https://stilenuotoquadri.it/corso/baby-boxe/2026-03-28/
CATEGORIES:Baby boxe,Sport da combattimento
ATTACH;FMTTYPE=image/webp:https://stilenuotoquadri.it/wp-content/uploads/2025/11/Baby-Boxe.webp
END:VEVENT
END:VCALENDAR