BEGIN:VCALENDAR
VERSION:2.0
PRODID:-//Stile Nuoto Quadri - ECPv6.15.20//NONSGML v1.0//EN
CALSCALE:GREGORIAN
METHOD:PUBLISH
X-WR-CALNAME:Stile Nuoto Quadri
X-ORIGINAL-URL:https://stilenuotoquadri.it
X-WR-CALDESC:Eventi per Stile Nuoto Quadri
REFRESH-INTERVAL;VALUE=DURATION:PT1H
X-Robots-Tag:noindex
X-PUBLISHED-TTL:PT1H
BEGIN:VTIMEZONE
TZID:Europe/Rome
BEGIN:DAYLIGHT
TZOFFSETFROM:+0100
TZOFFSETTO:+0200
TZNAME:CEST
DTSTART:20250330T010000
END:DAYLIGHT
BEGIN:STANDARD
TZOFFSETFROM:+0200
TZOFFSETTO:+0100
TZNAME:CET
DTSTART:20251026T010000
END:STANDARD
BEGIN:DAYLIGHT
TZOFFSETFROM:+0100
TZOFFSETTO:+0200
TZNAME:CEST
DTSTART:20260329T010000
END:DAYLIGHT
BEGIN:STANDARD
TZOFFSETFROM:+0200
TZOFFSETTO:+0100
TZNAME:CET
DTSTART:20261025T010000
END:STANDARD
BEGIN:DAYLIGHT
TZOFFSETFROM:+0100
TZOFFSETTO:+0200
TZNAME:CEST
DTSTART:20270328T010000
END:DAYLIGHT
BEGIN:STANDARD
TZOFFSETFROM:+0200
TZOFFSETTO:+0100
TZNAME:CET
DTSTART:20271031T010000
END:STANDARD
END:VTIMEZONE
BEGIN:VEVENT
DTSTART;TZID=Europe/Rome:20260421T084500
DTEND;TZID=Europe/Rome:20260421T093000
DTSTAMP:20260421T065026
CREATED:20250227T162120Z
LAST-MODIFIED:20251107T135913Z
UID:10047155-1776761100-1776763800@stilenuotoquadri.it
SUMMARY:Posturale
DESCRIPTION:Adatta a tutti\, propone protocolli di lavoro volti al benessere generale della colonna vertebrale e delle principali articolazioni del corpo. Adatta anche per alleviare le algie dovute a cattive posture e sovraccarichi da lavoro. In caso di patologie più gravi come protesi\, ernie\, scoliosi importanti\, sindromi dolorose delle spalle è necessario un colloquio preventivo con l’istruttore.
URL:https://stilenuotoquadri.it/corso/posturale/2026-04-21/
CATEGORIES:Palestra,Posturale
ATTACH;FMTTYPE=image/webp:https://stilenuotoquadri.it/wp-content/uploads/2025/02/Posturale.webp
END:VEVENT
BEGIN:VEVENT
DTSTART;TZID=Europe/Rome:20260421T194500
DTEND;TZID=Europe/Rome:20260421T203000
DTSTAMP:20260421T065026
CREATED:20251107T140307Z
LAST-MODIFIED:20251107T140307Z
UID:10196304-1776800700-1776803400@stilenuotoquadri.it
SUMMARY:Posturale
DESCRIPTION:Adatta a tutti\, propone protocolli di lavoro volti al benessere generale della colonna vertebrale e delle principali articolazioni del corpo. Adatta anche per alleviare le algie dovute a cattive posture e sovraccarichi da lavoro. In caso di patologie più gravi come protesi\, ernie\, scoliosi importanti\, sindromi dolorose delle spalle è necessario un colloquio preventivo con l’istruttore.
URL:https://stilenuotoquadri.it/corso/posturale-5-2/2026-04-21/
CATEGORIES:Palestra,Posturale
ATTACH;FMTTYPE=image/webp:https://stilenuotoquadri.it/wp-content/uploads/2025/02/Posturale.webp
END:VEVENT
BEGIN:VEVENT
DTSTART;TZID=Europe/Rome:20260423T090000
DTEND;TZID=Europe/Rome:20260423T094500
DTSTAMP:20260421T065026
CREATED:20251107T140127Z
LAST-MODIFIED:20251107T140127Z
UID:10196043-1776934800-1776937500@stilenuotoquadri.it
SUMMARY:Posturale
DESCRIPTION:Adatta a tutti\, propone protocolli di lavoro volti al benessere generale della colonna vertebrale e delle principali articolazioni del corpo. Adatta anche per alleviare le algie dovute a cattive posture e sovraccarichi da lavoro. In caso di patologie più gravi come protesi\, ernie\, scoliosi importanti\, sindromi dolorose delle spalle è necessario un colloquio preventivo con l’istruttore.
URL:https://stilenuotoquadri.it/corso/posturale-2-2/2026-04-23/
CATEGORIES:Palestra,Posturale
ATTACH;FMTTYPE=image/webp:https://stilenuotoquadri.it/wp-content/uploads/2025/02/Posturale.webp
END:VEVENT
END:VCALENDAR