BEGIN:VCALENDAR
VERSION:2.0
PRODID:-//Stile Nuoto Quadri - ECPv6.15.20//NONSGML v1.0//EN
CALSCALE:GREGORIAN
METHOD:PUBLISH
X-WR-CALNAME:Stile Nuoto Quadri
X-ORIGINAL-URL:https://stilenuotoquadri.it
X-WR-CALDESC:Eventi per Stile Nuoto Quadri
REFRESH-INTERVAL;VALUE=DURATION:PT1H
X-Robots-Tag:noindex
X-PUBLISHED-TTL:PT1H
BEGIN:VTIMEZONE
TZID:Europe/Rome
BEGIN:DAYLIGHT
TZOFFSETFROM:+0100
TZOFFSETTO:+0200
TZNAME:CEST
DTSTART:20250330T010000
END:DAYLIGHT
BEGIN:STANDARD
TZOFFSETFROM:+0200
TZOFFSETTO:+0100
TZNAME:CET
DTSTART:20251026T010000
END:STANDARD
BEGIN:DAYLIGHT
TZOFFSETFROM:+0100
TZOFFSETTO:+0200
TZNAME:CEST
DTSTART:20260329T010000
END:DAYLIGHT
BEGIN:STANDARD
TZOFFSETFROM:+0200
TZOFFSETTO:+0100
TZNAME:CET
DTSTART:20261025T010000
END:STANDARD
BEGIN:DAYLIGHT
TZOFFSETFROM:+0100
TZOFFSETTO:+0200
TZNAME:CEST
DTSTART:20270328T010000
END:DAYLIGHT
BEGIN:STANDARD
TZOFFSETFROM:+0200
TZOFFSETTO:+0100
TZNAME:CET
DTSTART:20271031T010000
END:STANDARD
END:VTIMEZONE
BEGIN:VEVENT
DTSTART;TZID=Europe/Rome:20260421T181500
DTEND;TZID=Europe/Rome:20260421T190000
DTSTAMP:20260420T202432
CREATED:20251107T131907Z
LAST-MODIFIED:20251107T131907Z
UID:10193617-1776795300-1776798000@stilenuotoquadri.it
SUMMARY:Pilates
DESCRIPTION:Allineamento posturale\, mobilità\, fluidità dei movimenti\, respirazione e grande attenzione al corsetto addominale si fondono in un nuovo modo di muoversi e costruire consapevolezza corporea. Adatta a chiunque cerchi un momento di pace nella frenesia quotidiana senza rinunciare ad un allenamento completo. Adatto a tutti anche per alleviare le algie dovute a cattiva postura\, sovraccarico da lavoro … …
URL:https://stilenuotoquadri.it/corso/pilates-2/2026-04-21/
CATEGORIES:Palestra,Pilates
ATTACH;FMTTYPE=image/webp:https://stilenuotoquadri.it/wp-content/uploads/2025/02/Pilates.webp
END:VEVENT
END:VCALENDAR