BEGIN:VCALENDAR
VERSION:2.0
PRODID:-//Stile Nuoto Quadri - ECPv6.15.20//NONSGML v1.0//EN
CALSCALE:GREGORIAN
METHOD:PUBLISH
X-WR-CALNAME:Stile Nuoto Quadri
X-ORIGINAL-URL:https://stilenuotoquadri.it
X-WR-CALDESC:Eventi per Stile Nuoto Quadri
REFRESH-INTERVAL;VALUE=DURATION:PT1H
X-Robots-Tag:noindex
X-PUBLISHED-TTL:PT1H
BEGIN:VTIMEZONE
TZID:Europe/Rome
BEGIN:DAYLIGHT
TZOFFSETFROM:+0100
TZOFFSETTO:+0200
TZNAME:CEST
DTSTART:20250330T010000
END:DAYLIGHT
BEGIN:STANDARD
TZOFFSETFROM:+0200
TZOFFSETTO:+0100
TZNAME:CET
DTSTART:20251026T010000
END:STANDARD
BEGIN:DAYLIGHT
TZOFFSETFROM:+0100
TZOFFSETTO:+0200
TZNAME:CEST
DTSTART:20260329T010000
END:DAYLIGHT
BEGIN:STANDARD
TZOFFSETFROM:+0200
TZOFFSETTO:+0100
TZNAME:CET
DTSTART:20261025T010000
END:STANDARD
BEGIN:DAYLIGHT
TZOFFSETFROM:+0100
TZOFFSETTO:+0200
TZNAME:CEST
DTSTART:20270328T010000
END:DAYLIGHT
BEGIN:STANDARD
TZOFFSETFROM:+0200
TZOFFSETTO:+0100
TZNAME:CET
DTSTART:20271031T010000
END:STANDARD
END:VTIMEZONE
BEGIN:VEVENT
DTSTART;TZID=Europe/Rome:20260407T093000
DTEND;TZID=Europe/Rome:20260407T103000
DTSTAMP:20260421T070612
CREATED:20251106T152058Z
LAST-MODIFIED:20251106T153147Z
UID:10185766-1775554200-1775557800@stilenuotoquadri.it
SUMMARY:Muay Thai
DESCRIPTION:La disciplina thailandese conosciuta come “l’arte delle otto armi”. Un allenamento intenso che sviluppa forza\, resistenza e coordinazione\, combinando calci\, pugni\, gomitate e ginocchiate in un mix di tecnica e potenza
URL:https://stilenuotoquadri.it/corso/muay-thai-2/2026-04-07/
CATEGORIES:Muay thay,Sport da combattimento
ATTACH;FMTTYPE=image/webp:https://stilenuotoquadri.it/wp-content/uploads/2025/11/Muay-Thai.webp
END:VEVENT
BEGIN:VEVENT
DTSTART;TZID=Europe/Rome:20260407T200000
DTEND;TZID=Europe/Rome:20260407T213000
DTSTAMP:20260421T070612
CREATED:20251106T153220Z
LAST-MODIFIED:20251106T153221Z
UID:10185245-1775592000-1775597400@stilenuotoquadri.it
SUMMARY:Muay Thai
DESCRIPTION:La disciplina thailandese conosciuta come “l’arte delle otto armi”. Un allenamento intenso che sviluppa forza\, resistenza e coordinazione\, combinando calci\, pugni\, gomitate e ginocchiate in un mix di tecnica e potenza
URL:https://stilenuotoquadri.it/corso/muay-thai-3/2026-04-07/
CATEGORIES:Muay thay,Sport da combattimento
ATTACH;FMTTYPE=image/webp:https://stilenuotoquadri.it/wp-content/uploads/2025/11/Muay-Thai.webp
END:VEVENT
BEGIN:VEVENT
DTSTART;TZID=Europe/Rome:20260407T203000
DTEND;TZID=Europe/Rome:20260407T220000
DTSTAMP:20260421T070612
CREATED:20251106T160237Z
LAST-MODIFIED:20251106T160237Z
UID:10190734-1775593800-1775599200@stilenuotoquadri.it
SUMMARY:Muay Thai
DESCRIPTION:Un corso divertente e formativo che introduce i bambini alla Muay Thai in modo sicuro e controllato. Attraverso esercizi ludici e tecniche base\, imparano disciplina\, equilibrio e fiducia in sé stessi
URL:https://stilenuotoquadri.it/corso/muay-thai/2026-04-07/
CATEGORIES:Muay thay,Sport per più piccoli
ATTACH;FMTTYPE=image/webp:https://stilenuotoquadri.it/wp-content/uploads/2025/11/muay-thai-kid.webp
END:VEVENT
BEGIN:VEVENT
DTSTART;TZID=Europe/Rome:20260409T200000
DTEND;TZID=Europe/Rome:20260409T213000
DTSTAMP:20260421T070612
CREATED:20251106T153220Z
LAST-MODIFIED:20251106T153221Z
UID:10185246-1775764800-1775770200@stilenuotoquadri.it
SUMMARY:Muay Thai
DESCRIPTION:La disciplina thailandese conosciuta come “l’arte delle otto armi”. Un allenamento intenso che sviluppa forza\, resistenza e coordinazione\, combinando calci\, pugni\, gomitate e ginocchiate in un mix di tecnica e potenza
URL:https://stilenuotoquadri.it/corso/muay-thai-3/2026-04-09/
CATEGORIES:Muay thay,Sport da combattimento
ATTACH;FMTTYPE=image/webp:https://stilenuotoquadri.it/wp-content/uploads/2025/11/Muay-Thai.webp
END:VEVENT
BEGIN:VEVENT
DTSTART;TZID=Europe/Rome:20260409T203000
DTEND;TZID=Europe/Rome:20260409T220000
DTSTAMP:20260421T070612
CREATED:20251106T160237Z
LAST-MODIFIED:20251106T160237Z
UID:10190735-1775766600-1775772000@stilenuotoquadri.it
SUMMARY:Muay Thai
DESCRIPTION:Un corso divertente e formativo che introduce i bambini alla Muay Thai in modo sicuro e controllato. Attraverso esercizi ludici e tecniche base\, imparano disciplina\, equilibrio e fiducia in sé stessi
URL:https://stilenuotoquadri.it/corso/muay-thai/2026-04-09/
CATEGORIES:Muay thay,Sport per più piccoli
ATTACH;FMTTYPE=image/webp:https://stilenuotoquadri.it/wp-content/uploads/2025/11/muay-thai-kid.webp
END:VEVENT
END:VCALENDAR