BEGIN:VCALENDAR
VERSION:2.0
PRODID:-//Stile Nuoto Quadri - ECPv6.15.20//NONSGML v1.0//EN
CALSCALE:GREGORIAN
METHOD:PUBLISH
X-ORIGINAL-URL:https://stilenuotoquadri.it
X-WR-CALDESC:Eventi per Stile Nuoto Quadri
REFRESH-INTERVAL;VALUE=DURATION:PT1H
X-Robots-Tag:noindex
X-PUBLISHED-TTL:PT1H
BEGIN:VTIMEZONE
TZID:Europe/Rome
BEGIN:DAYLIGHT
TZOFFSETFROM:+0100
TZOFFSETTO:+0200
TZNAME:CEST
DTSTART:20250330T010000
END:DAYLIGHT
BEGIN:STANDARD
TZOFFSETFROM:+0200
TZOFFSETTO:+0100
TZNAME:CET
DTSTART:20251026T010000
END:STANDARD
BEGIN:DAYLIGHT
TZOFFSETFROM:+0100
TZOFFSETTO:+0200
TZNAME:CEST
DTSTART:20260329T010000
END:DAYLIGHT
BEGIN:STANDARD
TZOFFSETFROM:+0200
TZOFFSETTO:+0100
TZNAME:CET
DTSTART:20261025T010000
END:STANDARD
BEGIN:DAYLIGHT
TZOFFSETFROM:+0100
TZOFFSETTO:+0200
TZNAME:CEST
DTSTART:20270328T010000
END:DAYLIGHT
BEGIN:STANDARD
TZOFFSETFROM:+0200
TZOFFSETTO:+0100
TZNAME:CET
DTSTART:20271031T010000
END:STANDARD
END:VTIMEZONE
BEGIN:VEVENT
DTSTART;TZID=Europe/Rome:20260427T170000
DTEND;TZID=Europe/Rome:20260427T180000
DTSTAMP:20260421T075604
CREATED:20251106T144548Z
LAST-MODIFIED:20251106T151043Z
UID:10182635-1777309200-1777312800@stilenuotoquadri.it
SUMMARY:Karate Kid - dai 6 anni
DESCRIPTION:Un corso pensato per i più piccoli che vogliono avvicinarsi al mondo delle arti marziali. Attraverso il gioco e la disciplina del karate\, i bambini imparano rispetto\, concentrazione e coordinazione\, divertendosi in un ambiente sicuro e motivante.
URL:https://stilenuotoquadri.it/corso/karate-kid-dai-6-anni/2026-04-27/
CATEGORIES:Karate Kid,Sport da combattimento
ATTACH;FMTTYPE=image/webp:https://stilenuotoquadri.it/wp-content/uploads/2025/11/Karate-Kid.webp
END:VEVENT
BEGIN:VEVENT
DTSTART;TZID=Europe/Rome:20260427T170000
DTEND;TZID=Europe/Rome:20260427T180000
DTSTAMP:20260421T075604
CREATED:20251106T155919Z
LAST-MODIFIED:20251106T155919Z
UID:10189693-1777309200-1777312800@stilenuotoquadri.it
SUMMARY:Karate Kid - dai 6 anni
DESCRIPTION:Un corso pensato per i più piccoli che vogliono avvicinarsi al mondo delle arti marziali. Attraverso il gioco e la disciplina del karate\, i bambini imparano rispetto\, concentrazione e coordinazione\, divertendosi in un ambiente sicuro e motivante.
URL:https://stilenuotoquadri.it/corso/karate-kid-dai-6-anni-2/2026-04-27/
CATEGORIES:Karate Kid,Sport per più piccoli
ATTACH;FMTTYPE=image/webp:https://stilenuotoquadri.it/wp-content/uploads/2025/11/Karate-Kid.webp
END:VEVENT
END:VCALENDAR