BEGIN:VCALENDAR
VERSION:2.0
PRODID:-//Stile Nuoto Quadri - ECPv6.15.20//NONSGML v1.0//EN
CALSCALE:GREGORIAN
METHOD:PUBLISH
X-ORIGINAL-URL:https://stilenuotoquadri.it
X-WR-CALDESC:Eventi per Stile Nuoto Quadri
REFRESH-INTERVAL;VALUE=DURATION:PT1H
X-Robots-Tag:noindex
X-PUBLISHED-TTL:PT1H
BEGIN:VTIMEZONE
TZID:Europe/Rome
BEGIN:DAYLIGHT
TZOFFSETFROM:+0100
TZOFFSETTO:+0200
TZNAME:CEST
DTSTART:20250330T010000
END:DAYLIGHT
BEGIN:STANDARD
TZOFFSETFROM:+0200
TZOFFSETTO:+0100
TZNAME:CET
DTSTART:20251026T010000
END:STANDARD
BEGIN:DAYLIGHT
TZOFFSETFROM:+0100
TZOFFSETTO:+0200
TZNAME:CEST
DTSTART:20260329T010000
END:DAYLIGHT
BEGIN:STANDARD
TZOFFSETFROM:+0200
TZOFFSETTO:+0100
TZNAME:CET
DTSTART:20261025T010000
END:STANDARD
BEGIN:DAYLIGHT
TZOFFSETFROM:+0100
TZOFFSETTO:+0200
TZNAME:CEST
DTSTART:20270328T010000
END:DAYLIGHT
BEGIN:STANDARD
TZOFFSETFROM:+0200
TZOFFSETTO:+0100
TZNAME:CET
DTSTART:20271031T010000
END:STANDARD
END:VTIMEZONE
BEGIN:VEVENT
DTSTART;TZID=Europe/Rome:20260323T124500
DTEND;TZID=Europe/Rome:20260323T133000
DTSTAMP:20260423T001759
CREATED:20250610T133716Z
LAST-MODIFIED:20251106T143831Z
UID:10180983-1774269900-1774272600@stilenuotoquadri.it
SUMMARY:Corso di nuoto - Gestanti
DESCRIPTION:obbligo certificato medico
URL:https://stilenuotoquadri.it/corso/corso-di-nuoto-gestanti-2-2-2-2/2026-03-23/
CATEGORIES:Corsi Nuoto (Vasca Natatoria),Gestanti
ATTACH;FMTTYPE=image/webp:https://stilenuotoquadri.it/wp-content/uploads/2025/02/Nuoto-libero.webp
END:VEVENT
END:VCALENDAR