BEGIN:VCALENDAR
VERSION:2.0
PRODID:-//Stile Nuoto Quadri - ECPv6.15.20//NONSGML v1.0//EN
CALSCALE:GREGORIAN
METHOD:PUBLISH
X-ORIGINAL-URL:https://stilenuotoquadri.it
X-WR-CALDESC:Eventi per Stile Nuoto Quadri
REFRESH-INTERVAL;VALUE=DURATION:PT1H
X-Robots-Tag:noindex
X-PUBLISHED-TTL:PT1H
BEGIN:VTIMEZONE
TZID:Europe/Rome
BEGIN:DAYLIGHT
TZOFFSETFROM:+0100
TZOFFSETTO:+0200
TZNAME:CEST
DTSTART:20250330T010000
END:DAYLIGHT
BEGIN:STANDARD
TZOFFSETFROM:+0200
TZOFFSETTO:+0100
TZNAME:CET
DTSTART:20251026T010000
END:STANDARD
BEGIN:DAYLIGHT
TZOFFSETFROM:+0100
TZOFFSETTO:+0200
TZNAME:CEST
DTSTART:20260329T010000
END:DAYLIGHT
BEGIN:STANDARD
TZOFFSETFROM:+0200
TZOFFSETTO:+0100
TZNAME:CET
DTSTART:20261025T010000
END:STANDARD
BEGIN:DAYLIGHT
TZOFFSETFROM:+0100
TZOFFSETTO:+0200
TZNAME:CEST
DTSTART:20270328T010000
END:DAYLIGHT
BEGIN:STANDARD
TZOFFSETFROM:+0200
TZOFFSETTO:+0100
TZNAME:CET
DTSTART:20271031T010000
END:STANDARD
END:VTIMEZONE
BEGIN:VEVENT
DTSTART;TZID=Europe/Rome:20260415T130000
DTEND;TZID=Europe/Rome:20260415T134500
DTSTAMP:20260423T004139
CREATED:20250228T142006Z
LAST-MODIFIED:20251107T134917Z
UID:10195432-1776258000-1776260700@stilenuotoquadri.it
SUMMARY:GAG
DESCRIPTION:G. = GAMBE A. = ADDOMINALI G. = GLUTEI Un corso a media/alta intensità concentrato sui distretti inferiori ed addome per garantirti un fisico statuario!
URL:https://stilenuotoquadri.it/corso/gag/2026-04-15/
CATEGORIES:GAG,Palestra
ATTACH;FMTTYPE=image/webp:https://stilenuotoquadri.it/wp-content/uploads/2025/02/gag.webp
END:VEVENT
BEGIN:VEVENT
DTSTART;TZID=Europe/Rome:20260417T090000
DTEND;TZID=Europe/Rome:20260417T094500
DTSTAMP:20260423T004139
CREATED:20250228T142152Z
LAST-MODIFIED:20251107T134852Z
UID:10195067-1776416400-1776419100@stilenuotoquadri.it
SUMMARY:GAG
DESCRIPTION:G. = GAMBE A. = ADDOMINALI G. = GLUTEI Un corso a media/alta intensità concentrato sui distretti inferiori ed addome per garantirti un fisico statuario!
URL:https://stilenuotoquadri.it/corso/gag-2/2026-04-17/
CATEGORIES:GAG,Palestra
ATTACH;FMTTYPE=image/webp:https://stilenuotoquadri.it/wp-content/uploads/2025/02/gag.webp
END:VEVENT
END:VCALENDAR