BEGIN:VCALENDAR
VERSION:2.0
PRODID:-//Stile Nuoto Quadri - ECPv6.15.20//NONSGML v1.0//EN
CALSCALE:GREGORIAN
METHOD:PUBLISH
X-WR-CALNAME:Stile Nuoto Quadri
X-ORIGINAL-URL:https://stilenuotoquadri.it
X-WR-CALDESC:Eventi per Stile Nuoto Quadri
REFRESH-INTERVAL;VALUE=DURATION:PT1H
X-Robots-Tag:noindex
X-PUBLISHED-TTL:PT1H
BEGIN:VTIMEZONE
TZID:Europe/Rome
BEGIN:DAYLIGHT
TZOFFSETFROM:+0100
TZOFFSETTO:+0200
TZNAME:CEST
DTSTART:20250330T010000
END:DAYLIGHT
BEGIN:STANDARD
TZOFFSETFROM:+0200
TZOFFSETTO:+0100
TZNAME:CET
DTSTART:20251026T010000
END:STANDARD
BEGIN:DAYLIGHT
TZOFFSETFROM:+0100
TZOFFSETTO:+0200
TZNAME:CEST
DTSTART:20260329T010000
END:DAYLIGHT
BEGIN:STANDARD
TZOFFSETFROM:+0200
TZOFFSETTO:+0100
TZNAME:CET
DTSTART:20261025T010000
END:STANDARD
BEGIN:DAYLIGHT
TZOFFSETFROM:+0100
TZOFFSETTO:+0200
TZNAME:CEST
DTSTART:20270328T010000
END:DAYLIGHT
BEGIN:STANDARD
TZOFFSETFROM:+0200
TZOFFSETTO:+0100
TZNAME:CET
DTSTART:20271031T010000
END:STANDARD
END:VTIMEZONE
BEGIN:VEVENT
DTSTART;TZID=Europe/Rome:20260410T173000
DTEND;TZID=Europe/Rome:20260410T181500
DTSTAMP:20260420T185402
CREATED:20251106T141453Z
LAST-MODIFIED:20251106T142029Z
UID:10172619-1775842200-1775844900@stilenuotoquadri.it
SUMMARY:Corso di nuoto - Acquaticità Corso del Distacco
DESCRIPTION:per bambini di età 2 e 1/2 – 3 anni
URL:https://stilenuotoquadri.it/corso/corso-di-nuoto-acquaticita-dai-4-mesi-2-2/2026-04-10/
CATEGORIES:Corsi Nuoto (Vasca Natatoria),Corso del distacco
ATTACH;FMTTYPE=image/webp:https://stilenuotoquadri.it/wp-content/uploads/2025/02/Nuoto-libero.webp
END:VEVENT
BEGIN:VEVENT
DTSTART;TZID=Europe/Rome:20260411T103000
DTEND;TZID=Europe/Rome:20260411T111500
DTSTAMP:20260420T185402
CREATED:20250228T160613Z
LAST-MODIFIED:20251106T141514Z
UID:10081127-1775903400-1775906100@stilenuotoquadri.it
SUMMARY:Corso di nuoto - Acquaticità Corso del distacco
DESCRIPTION:per bambini di età 2 e 1/2 – 3 anni
URL:https://stilenuotoquadri.it/corso/corso-di-nuoto-acquaticita-corso-del-distacco-2/2026-04-11/
CATEGORIES:Corsi Nuoto (Vasca Natatoria),Corso del distacco
ATTACH;FMTTYPE=image/webp:https://stilenuotoquadri.it/wp-content/uploads/2025/02/Nuoto-libero.webp
END:VEVENT
BEGIN:VEVENT
DTSTART;TZID=Europe/Rome:20260411T113000
DTEND;TZID=Europe/Rome:20260411T121500
DTSTAMP:20260420T185402
CREATED:20250228T160822Z
LAST-MODIFIED:20251106T141531Z
UID:10172917-1775907000-1775909700@stilenuotoquadri.it
SUMMARY:Corso di nuoto - Acquaticità Corso del distacco
DESCRIPTION:per bambini di età 2 e 1/2 – 3 anni
URL:https://stilenuotoquadri.it/corso/corso-di-nuoto-acquaticita-corso-del-distacco-3/2026-04-11/
CATEGORIES:Corsi Nuoto (Vasca Natatoria),Corso del distacco
ATTACH;FMTTYPE=image/webp:https://stilenuotoquadri.it/wp-content/uploads/2025/02/Nuoto-libero.webp
END:VEVENT
BEGIN:VEVENT
DTSTART;TZID=Europe/Rome:20260411T173000
DTEND;TZID=Europe/Rome:20260411T181500
DTSTAMP:20260420T185402
CREATED:20251105T161747Z
LAST-MODIFIED:20251106T142124Z
UID:10173198-1775928600-1775931300@stilenuotoquadri.it
SUMMARY:Corso di nuoto - Acquaticità Corso del distacco
DESCRIPTION:per bambini di età 2 e 1/2 – 3 anni
URL:https://stilenuotoquadri.it/corso/corso-di-nuoto-acquaticita-corso-del-distacco-4/2026-04-11/
CATEGORIES:Corsi Nuoto (Vasca Natatoria),Corso del distacco
ATTACH;FMTTYPE=image/webp:https://stilenuotoquadri.it/wp-content/uploads/2025/02/Nuoto-libero.webp
END:VEVENT
END:VCALENDAR